BEGIN:VCALENDAR
X-WR-TIMEZONE:Europe/Berlin
X-WR-CALNAME:rbb-Kalender
VERSION:2.0
METHOD:PUBLISH
CALSCALE:GREGORIAN
PRODID:rbb-CMS DAY
BEGIN:VEVENT
CLASS:PUBLIC
URL:http://www.rbb-online.de/content/rbb/rbb/zibb/archiv/20131010_1830/einbruchsserie-in-kleinmachnow.html
DTEND:20131010T192500
DTSTART:20131010T183000
UID:/content/rbb/rbb/zibb/archiv/20131010_1830/einbruchsserie-in-kleinmachnow
DTSTAMP:20140406T220235
DESCRIPTION:Der beginnende Herbst zeigt seine Schattenseiten: im Dunkeln ist gut munkeln - so zumindest glauben Einbrecherbanden, die im Schutz der Dämmerung reihenweise Häuser und Wohnungen am Berliner Ortsrand plündern. Der Kleinmachnower Bürgermeister hat deshalb etwas Neues im Rathaus im Angebot: künstliche DNA zur Kennzeichnung von Wertsachen.\n\n\n
SUMMARY:Einbruchsserie in Kleinmachnow
END:VEVENT
END:VCALENDAR
