BEGIN:VCALENDAR
X-WR-TIMEZONE:Europe/Berlin
X-WR-CALNAME:rbb-Kalender
VERSION:2.0
METHOD:PUBLISH
CALSCALE:GREGORIAN
PRODID:rbb-CMS DAY
BEGIN:VEVENT
CLASS:PUBLIC
URL:http://www.rbb-online.de/content/rbb/rbb/zibb/archiv/20131010_1830/woche-der-seelischen-gesundheit.html
DTEND:20131010T192500
DTSTART:20131010T183000
UID:/content/rbb/rbb/zibb/archiv/20131010_1830/woche-der-seelischen-gesundheit
DTSTAMP:20140406T220310
DESCRIPTION:Jeder von uns hofft darauf, im Alter nicht nur körperlich sondern auch seelisch gesund zu bleiben, um ein zufriedenes und selbstbestimmtes Leben zu führen. Wie wir das verwirklichen können, darüber informieren über 150 Veranstaltungen, die im Rahmen der Berliner Woche der Seelischen Gesundheit stattfinden.\n\n\n
SUMMARY:Woche der seelischen Gesundheit
END:VEVENT
END:VCALENDAR
