BEGIN:VCALENDAR
X-WR-TIMEZONE:Europe/Berlin
X-WR-CALNAME:rbb-Kalender
VERSION:2.0
METHOD:PUBLISH
CALSCALE:GREGORIAN
PRODID:rbb-CMS DAY
BEGIN:VEVENT
CLASS:PUBLIC
URL:http://www.rbb-online.de/content/rbb/rbb/zibb/archiv/20131010_1830/zucker-aus-rueben.html
DTEND:20131010T192500
DTSTART:20131010T183000
UID:/content/rbb/rbb/zibb/archiv/20131010_1830/zucker-aus-rueben
DTSTAMP:20140406T220255
DESCRIPTION:Er ist im Kaffee, in der Marmelade, im Ketchup - Zucker. Jeder von uns isst im Jahr rund 35 Kilo von den süßen Krümeln. Im Brandenburgischen Brottewitz wird der zur Zeit rund um die Uhr Zucker produziert. zibb ist live dabei.\n\n\n
SUMMARY:Zucker aus Rüben
END:VEVENT
END:VCALENDAR
