BEGIN:VCALENDAR
X-WR-TIMEZONE:Europe/Berlin
X-WR-CALNAME:rbb-Kalender
VERSION:2.0
METHOD:PUBLISH
CALSCALE:GREGORIAN
PRODID:rbb-CMS DAY
BEGIN:VEVENT
CLASS:PUBLIC
URL:http://www.rbb-online.de/content/rbb/rbb/zibb/archiv/20131011_1830/bruecken.html
DTEND:20131011T192500
DTSTART:20131011T183000
UID:/content/rbb/rbb/zibb/archiv/20131011_1830/bruecken
DTSTAMP:20140407T175145
DESCRIPTION:Berlin besitzt genau 1102 Brücken. Ohne sie würden in der Stadt chaotische Zustände herrschen, würde man sein Ziel nur über lange Umwege erreichen. Schon eine einzige Brückensperrung bringt viele auf die Palme.\n\n\n\n\n
SUMMARY:Berlins marode Brücken
END:VEVENT
END:VCALENDAR
