BEGIN:VCALENDAR
X-WR-TIMEZONE:Europe/Berlin
X-WR-CALNAME:rbb-Kalender
VERSION:2.0
METHOD:PUBLISH
CALSCALE:GREGORIAN
PRODID:rbb-CMS DAY
BEGIN:VEVENT
CLASS:PUBLIC
URL:http://www.rbb-online.de/content/rbb/rbb/zibb/archiv/20131011_1830/ditwardit.html
DTEND:20131011T192500
DTSTART:20131011T183000
UID:/content/rbb/rbb/zibb/archiv/20131011_1830/ditwardit
DTSTAMP:20140407T175214
DESCRIPTION:Ist Ihnen auch aufgefallen, dass man die Lampen jetzt mit jedem Tag schon ein wenig früher am Abend anschalten muss?  Wie jeden Freitag beleuchten wir an dieser Stelle noch mal die vergangene Woche. Und diesmal ist bei uns das eine oder andere Lichtlein aufgeblitzt.\n
SUMMARY:Dit war Dit
END:VEVENT
END:VCALENDAR
