BEGIN:VCALENDAR
X-WR-TIMEZONE:Europe/Berlin
X-WR-CALNAME:rbb-Kalender
VERSION:2.0
METHOD:PUBLISH
CALSCALE:GREGORIAN
PRODID:rbb-CMS DAY
BEGIN:VEVENT
CLASS:PUBLIC
URL:http://www.rbb-online.de/content/rbb/rbb/zibb/archiv/20131011_1830/regen.html
DTEND:20131011T192500
DTSTART:20131011T183000
UID:/content/rbb/rbb/zibb/archiv/20131011_1830/regen
DTSTAMP:20140407T175117
DESCRIPTION:Die Prognose vom "Wetterfrosch" des meteorologischen Dienstes in Potsdam für die nächsten zwei Tage ist einfach nur zum „Decke-über-den-Kopf-ziehen-und-bloß-nicht-rausgehen“! Nicht mal den berühmten Hund möchte man vor die Tür schicken. Der zibb-Tagesreporter hat sich mal umgesehen, ob es denn da wirklich gar keine Alternativen gibt.\n\n\n\n\n
SUMMARY:Wohlfühlen – bei 100 Prozent Regenwahrscheinlichkeit
END:VEVENT
END:VCALENDAR
