BEGIN:VCALENDAR
X-WR-TIMEZONE:Europe/Berlin
X-WR-CALNAME:rbb-Kalender
VERSION:2.0
METHOD:PUBLISH
CALSCALE:GREGORIAN
PRODID:rbb-CMS DAY
BEGIN:VEVENT
LOCATION:zuhause in berlin & brandenburg
CLASS:PUBLIC
URL:http://www.rbb-online.de/content/rbb/rbb/zibb/archiv/20131014_1830.html
DTEND:20131014T192500
DTSTART:20131014T183000
UID:/content/rbb/rbb/zibb/archiv/20131014_1830
DTSTAMP:20140408T030524
DESCRIPTION:+++ 96-Stunden-Aktion: Zukunft für Jugendliche in Not +++ Auf der zibb-Couch: Mathias Richling +++ Im zibb-Service: Essen per Mausklick +++ Digitaler Nachlass +++ Edith Hanke wird 85 +++\n\n\n
SUMMARY:zibb 14.10.2013 18:30
END:VEVENT
END:VCALENDAR
