BEGIN:VCALENDAR
X-WR-TIMEZONE:Europe/Berlin
X-WR-CALNAME:rbb-Kalender
VERSION:2.0
METHOD:PUBLISH
CALSCALE:GREGORIAN
PRODID:rbb-CMS DAY
BEGIN:VEVENT
CLASS:PUBLIC
URL:http://www.rbb-online.de/content/rbb/rbb/zibb/archiv/20131014_1830/edith-hanke-wird-85-.html
DTEND:20131014T183000
DTSTART:20131014T183000
UID:/content/rbb/rbb/zibb/archiv/20131014_1830/edith-hanke-wird-85-
DTSTAMP:20140407T173946
DESCRIPTION:Sie ist Volksschauspielerin, eine Theaterinstitution und Berlin immer treu geblieben. zibb gratuliert Edith Hanke zum 85 Geburtstag mit einer Auswahl ihrer schönsten Theater- und Filmmomente.\n\n\n
SUMMARY:Edith Hanke wird 85 
END:VEVENT
END:VCALENDAR
