BEGIN:VCALENDAR
X-WR-TIMEZONE:Europe/Berlin
X-WR-CALNAME:rbb-Kalender
VERSION:2.0
METHOD:PUBLISH
CALSCALE:GREGORIAN
PRODID:rbb-CMS DAY
BEGIN:VEVENT
CLASS:PUBLIC
URL:http://www.rbb-online.de/content/rbb/rbb/zibb/archiv/20131015_1830/bcker.html
DTEND:20131015T192500
DTSTART:20131015T183000
UID:/content/rbb/rbb/zibb/archiv/20131015_1830/bcker
DTSTAMP:20140406T040915
DESCRIPTION:Berlin ist beliebt bei Südeuropäern. Überall auf den Straßen hört man Italienisch, Spanisch, Portugiesisch oder Griechisch. Viele, die hier sich hier eine berufliche Existenz aufbauen, bringen ein Stück ihrer Kultur mit zu uns.\n\n\n
SUMMARY:Vom Historiker zum Bäcker
END:VEVENT
END:VCALENDAR
