BEGIN:VCALENDAR
X-WR-TIMEZONE:Europe/Berlin
X-WR-CALNAME:rbb-Kalender
VERSION:2.0
METHOD:PUBLISH
CALSCALE:GREGORIAN
PRODID:rbb-CMS DAY
BEGIN:VEVENT
CLASS:PUBLIC
URL:http://www.rbb-online.de/content/rbb/rbb/zibb/archiv/20131015_1830/duopfer.html
DTEND:20131015T192500
DTSTART:20131015T183000
UID:/content/rbb/rbb/zibb/archiv/20131015_1830/duopfer
DTSTAMP:20140406T040902
DESCRIPTION:Die Dokumentation erzählt aus der Welt ihrer Protagonisten, die selbst Opfer einer Gewalttat wurden. Viele Opfer von Gewalt sind nach einem solchen Erlebnis der Machtlosigkeit schwer traumatisiert. "Du Opfer", Am Dienstagabend um 22:45 Uhr im rbb Fernsehen.\n\n\n\n\n
SUMMARY:"Du Opfer"
END:VEVENT
END:VCALENDAR
