BEGIN:VCALENDAR
X-WR-TIMEZONE:Europe/Berlin
X-WR-CALNAME:rbb-Kalender
VERSION:2.0
METHOD:PUBLISH
CALSCALE:GREGORIAN
PRODID:rbb-CMS DAY
BEGIN:VEVENT
CLASS:PUBLIC
URL:http://www.rbb-online.de/content/rbb/rbb/zibb/archiv/20131015_1830/youngvoices.html
DTEND:20131015T192500
DTSTART:20131015T183000
UID:/content/rbb/rbb/zibb/archiv/20131015_1830/youngvoices
DTSTAMP:20140406T040950
DESCRIPTION:Hildegard von Bingen meets Coldplay - ein ganz besonderes Thema haben sich die young voices brandenburg für ihre neue CD vorgenommen. Der Chor, der sich alle zwei Jahre praktisch runderneuert, will mit der Produktion "1000" tausend Jahre europäischer Musikgeschichte interpretieren.\n\n\n
SUMMARY:Auf der Bühne: Young Voices 
END:VEVENT
END:VCALENDAR
