BEGIN:VCALENDAR
X-WR-TIMEZONE:Europe/Berlin
X-WR-CALNAME:rbb-Kalender
VERSION:2.0
METHOD:PUBLISH
CALSCALE:GREGORIAN
PRODID:rbb-CMS DAY
BEGIN:VEVENT
CLASS:PUBLIC
URL:http://www.rbb-online.de/content/rbb/rbb/zibb/archiv/20131016_1830/herbst.html
DTEND:20131016T192500
DTSTART:20131016T183000
UID:/content/rbb/rbb/zibb/archiv/20131016_1830/herbst
DTSTAMP:20140406T042141
DESCRIPTION:Berlin und Brandenburg ertrinken im Laub. Nach den Regenfällen der letzten Tage gibt es eine gefährliche Gemengelage am Boden. Die BSR ist im Dauereinsatz und auch die Grundstückseigner sind in der Pflicht, sonst kanns schnell teuer werden. Doch auch wenn sich alle an die Regeln halten, der  Laubdauereinsatz ist nicht preiswert, wird aber überall anders geregelt. zibb war mit dem Besen unterwegs.\n
SUMMARY:Laubbläser contra Herbststimmung
END:VEVENT
END:VCALENDAR
