BEGIN:VCALENDAR
X-WR-TIMEZONE:Europe/Berlin
X-WR-CALNAME:rbb-Kalender
VERSION:2.0
METHOD:PUBLISH
CALSCALE:GREGORIAN
PRODID:rbb-CMS DAY
BEGIN:VEVENT
CLASS:PUBLIC
URL:http://www.rbb-online.de/content/rbb/rbb/zibb/archiv/20131017_1830/tribute-to-bambi.html
DTEND:20131017T192500
DTSTART:20131017T183000
UID:/content/rbb/rbb/zibb/archiv/20131017_1830/tribute-to-bambi
DTSTAMP:20140406T041922
DESCRIPTION:Zum 12. Mal findet am Donnerstagabend nun schon das Charity-Ereignis TRIBUTE TO BAMBI statt. Viele Prominente sammeln bei diesem Anlass Spenden für hilfsbedürftige Kinder und Jugendliche in Deutschland ein. Mehr als 800 Gäste waren am Abend vor Ort in Berlin.\n
SUMMARY:A Tribute to Bambi
END:VEVENT
END:VCALENDAR
