BEGIN:VCALENDAR
X-WR-TIMEZONE:Europe/Berlin
X-WR-CALNAME:rbb-Kalender
VERSION:2.0
METHOD:PUBLISH
CALSCALE:GREGORIAN
PRODID:rbb-CMS DAY
BEGIN:VEVENT
CLASS:PUBLIC
URL:http://www.rbb-online.de/content/rbb/rbb/zibb/archiv/20131018_1830/cottbus-union.html
DTEND:20131018T192500
DTSTART:20131018T183000
UID:/content/rbb/rbb/zibb/archiv/20131018_1830/cottbus-union
DTSTAMP:20140406T041122
DESCRIPTION:Am Freitag lieferten sich die Energie Cottbus und Union Berlin ein Berlin-Brandenburg-Duell. Die beiden Zweitligavereine sind seit vielen Jahren Rivalen. Zibb- Reporter Dietmar Teige war in Cottbus in einer Kneipe um die Stimmung bei den Fans auszuloten.\n\n\n\n\n
SUMMARY:Das Derby: Energie gegen Union
END:VEVENT
END:VCALENDAR
