BEGIN:VCALENDAR
X-WR-TIMEZONE:Europe/Berlin
X-WR-CALNAME:rbb-Kalender
VERSION:2.0
METHOD:PUBLISH
CALSCALE:GREGORIAN
PRODID:rbb-CMS DAY
BEGIN:VEVENT
CLASS:PUBLIC
URL:http://www.rbb-online.de/content/rbb/rbb/zibb/archiv/20131018_1830/grippeimpfung.html
DTEND:20131018T192500
DTSTART:20131018T183000
UID:/content/rbb/rbb/zibb/archiv/20131018_1830/grippeimpfung
DTSTAMP:20140406T041103
DESCRIPTION:Es geht wieder los mit triefenden Nasen, kratzigem Hals und lästigem Husten. Und spätestens im Dezember rollt die Grippewelle wieder so richtig an. Jetzt ist also der beste Zeitpunkt, um sich die alljährliche Spritze geben zu lassen. Kinder haben in diesem Jahr sogar erstmals die Möglichkeit, statt durch einen Piekser über ein Nasenspray vor der saisonalen Grippe geschützt zu werden. \n
SUMMARY:Grippeschutz per Nasenspray
END:VEVENT
END:VCALENDAR
