BEGIN:VCALENDAR
X-WR-TIMEZONE:Europe/Berlin
X-WR-CALNAME:rbb-Kalender
VERSION:2.0
METHOD:PUBLISH
CALSCALE:GREGORIAN
PRODID:rbb-CMS DAY
BEGIN:VEVENT
CLASS:PUBLIC
URL:http://www.rbb-online.de/content/rbb/rbb/zibb/archiv/20131018_1830/madonna.html
DTEND:20131018T192500
DTSTART:20131018T183000
UID:/content/rbb/rbb/zibb/archiv/20131018_1830/madonna
DTSTAMP:20140406T041025
DESCRIPTION:Lange hatte Berlin darauf gewartet: Nun war die Pop Queen endlich in der Stadt – allerdings nicht für ein Konzert. In der Clay-Allee in Dahlem hat Madonna ihr Fitnessstudio "Hard Candy" eröffnet. Zibb hat sich vor Ort umgeschaut.\n
SUMMARY:Popstar Madonna in Berlin 
END:VEVENT
END:VCALENDAR
