BEGIN:VCALENDAR
X-WR-TIMEZONE:Europe/Berlin
X-WR-CALNAME:rbb-Kalender
VERSION:2.0
METHOD:PUBLISH
CALSCALE:GREGORIAN
PRODID:rbb-CMS DAY
BEGIN:VEVENT
CLASS:PUBLIC
URL:http://www.rbb-online.de/content/rbb/rbb/zibb/archiv/20131021_1830/premiere.html
DTEND:20131021T192500
DTSTART:20131021T183000
UID:/content/rbb/rbb/zibb/archiv/20131021_1830/premiere
DTSTAMP:20140407T174437
DESCRIPTION:Sie sind Rockstars geworden aber Clochards geblieben. Die ehemaligen Straßenmusiker aus Korsika punkten sie mit Musikalität, Charme, tollkühnen Tanzeinlagen und Instrumentalakrobatik.\n
SUMMARY:Premiere: The Les Clochards
END:VEVENT
END:VCALENDAR
