BEGIN:VCALENDAR
X-WR-TIMEZONE:Europe/Berlin
X-WR-CALNAME:rbb-Kalender
VERSION:2.0
METHOD:PUBLISH
CALSCALE:GREGORIAN
PRODID:rbb-CMS DAY
BEGIN:VEVENT
CLASS:PUBLIC
URL:http://www.rbb-online.de/content/rbb/rbb/zibb/archiv/20131023_1830/2.html
DTEND:20131023T192500
DTSTART:20131023T183000
UID:/content/rbb/rbb/zibb/archiv/20131023_1830/2
DTSTAMP:20140407T174719
DESCRIPTION:Dieter Anders ist kein Mann mit angsteinflößenden Körpermaßen. Der frühere Federgewichts-Boxer aus Hennigsdorf zeigt seine Autorität beim Training und als Kampfrichter mit fixierenden Blicken. "Mich trickst keiner aus", sagt der 62-Jährige, der sein Leben dem Sport gewidmet hat.\n\n\n
SUMMARY:Ringrichter Dieter Anders
END:VEVENT
END:VCALENDAR
