BEGIN:VCALENDAR
X-WR-TIMEZONE:Europe/Berlin
X-WR-CALNAME:rbb-Kalender
VERSION:2.0
METHOD:PUBLISH
CALSCALE:GREGORIAN
PRODID:rbb-CMS DAY
BEGIN:VEVENT
CLASS:PUBLIC
URL:http://www.rbb-online.de/content/rbb/rbb/zibb/archiv/20131023_1830/5.html
DTEND:20131023T192500
DTSTART:20131023T183000
UID:/content/rbb/rbb/zibb/archiv/20131023_1830/5
DTSTAMP:20140407T174703
DESCRIPTION:"Ich hab´s mit dem Ischias" - das bedeutet für die Betroffenen meist heftige Schmerzen vom Gesäß bis in die Beine. Darum geht es heute Abend um 20:15 Uhr in der rbb Praxis. zibb stimmt Sie schon einmal auf das Thema ein.\n\n\n
SUMMARY:rbb Praxis: Hexenschuss und Ischias 
END:VEVENT
END:VCALENDAR
