BEGIN:VCALENDAR
X-WR-TIMEZONE:Europe/Berlin
X-WR-CALNAME:rbb-Kalender
VERSION:2.0
METHOD:PUBLISH
CALSCALE:GREGORIAN
PRODID:rbb-CMS DAY
BEGIN:VEVENT
CLASS:PUBLIC
URL:http://www.rbb-online.de/content/rbb/rbb/zibb/archiv/20131023_1830/6.html
DTEND:20131023T192500
DTSTART:20131023T183000
UID:/content/rbb/rbb/zibb/archiv/20131023_1830/6
DTSTAMP:20140407T174622
DESCRIPTION:Mit dem "Nussknacker" tanzt das Staatsballett Berlin eines der beliebtesten Ballette überhaupt. Die Inszenierung in der Deutschen Oper basiert auf der szenischen und choreograhischen Überlieferung des Originals von 1892. Die Ausstattung wurde den historischen Vorlagen angepasst, die zu den Schätzen russischer Theaterarchive zählen. Von der Premiere berichtet Catarina Zanner.\n\n\n
SUMMARY:Premiere für den "Nussknacker"
END:VEVENT
END:VCALENDAR
