BEGIN:VCALENDAR
X-WR-TIMEZONE:Europe/Berlin
X-WR-CALNAME:rbb-Kalender
VERSION:2.0
METHOD:PUBLISH
CALSCALE:GREGORIAN
PRODID:rbb-CMS DAY
BEGIN:VEVENT
CLASS:PUBLIC
URL:http://www.rbb-online.de/content/rbb/rbb/zibb/archiv/20131025_1830/unterstuetzung-fuer-ein-neues-leben.html
DTEND:20131025T192500
DTSTART:20131025T183000
UID:/content/rbb/rbb/zibb/archiv/20131025_1830/unterstuetzung-fuer-ein-neues-leben
DTSTAMP:20140407T142242
DESCRIPTION:Das Projekt "Jule" bietet sehr jungen Müttern Hilfe und Unterstützung, um die Schwierigkeiten zu bewältigen, die sich aus ihrer neuen Rolle als Mutter ergeben. zibb hat das Projekt besucht und mit einigen der jungen Frauen über ihre Situation gesprochen.\n\n\n
SUMMARY:Unterstützung für ein neues Leben
END:VEVENT
END:VCALENDAR
