BEGIN:VCALENDAR
X-WR-TIMEZONE:Europe/Berlin
X-WR-CALNAME:rbb-Kalender
VERSION:2.0
METHOD:PUBLISH
CALSCALE:GREGORIAN
PRODID:rbb-CMS DAY
BEGIN:VEVENT
CLASS:PUBLIC
URL:http://www.rbb-online.de/content/rbb/rbb/zibb/archiv/20131025_1830/weihnachtszeit-ist-maerchenzeit.html
DTEND:20131025T192500
DTSTART:20131025T183000
UID:/content/rbb/rbb/zibb/archiv/20131025_1830/weihnachtszeit-ist-maerchenzeit
DTSTAMP:20140407T142144
DESCRIPTION:Auch in diesem Jahr ist Angelika Mann zu Weihnachten wieder als Märchenrätselhexe unterwegs - darauf kann wohl kein echter Fernsehliebhaber verzichten. Derzeit laufen die Dreharbeiten in Himmelpfort auf Hochtouren. zibb hat Angelika Mann vor Ort besucht.\n\n\n
SUMMARY:Weihnachtszeit ist Märchenzeit
END:VEVENT
END:VCALENDAR
