BEGIN:VCALENDAR
X-WR-TIMEZONE:Europe/Berlin
X-WR-CALNAME:rbb-Kalender
VERSION:2.0
METHOD:PUBLISH
CALSCALE:GREGORIAN
PRODID:rbb-CMS DAY
BEGIN:VEVENT
CLASS:PUBLIC
URL:http://www.rbb-online.de/content/rbb/rbb/zibb/archiv/20131028_1830/Brandenburg.html
DTEND:20131028T192500
DTSTART:20131028T183000
UID:/content/rbb/rbb/zibb/archiv/20131028_1830/Brandenburg
DTSTAMP:20140407T174134
DESCRIPTION:Alle Jahre wieder wird über die Fusion der beiden Länder Berlin und Brandenburg diskutiert. Nun empfiehlt die Stiftung "Zukunft Berlin", Berlin solle seinen Länderstatus aufgeben und sich Brandenburg anschließen. Zibb wollte wissen, was halten Sie von dieser Idee?\n\n\n\n\n
SUMMARY:Sollte Berlin Teil von Brandenburg werden?
END:VEVENT
END:VCALENDAR
