BEGIN:VCALENDAR
X-WR-TIMEZONE:Europe/Berlin
X-WR-CALNAME:rbb-Kalender
VERSION:2.0
METHOD:PUBLISH
CALSCALE:GREGORIAN
PRODID:rbb-CMS DAY
BEGIN:VEVENT
CLASS:PUBLIC
URL:http://www.rbb-online.de/content/rbb/rbb/zibb/archiv/20131028_1830/kudamm.html
DTEND:20131028T192500
DTSTART:20131028T183000
UID:/content/rbb/rbb/zibb/archiv/20131028_1830/kudamm
DTSTAMP:20140407T174056
DESCRIPTION:Wie viel Weltstadt-Potenzial steckt eigentlich noch im Ku´damm? Und in welche Richtung strebt der angestaubte Pracht-Boulevard? Auch wenn sein Charme von Unternehmern jetzt wieder geschätzt wird: Für einen neuen Boom durch eine hippe, kulturelle Mischung scheint die Zeit noch nicht ganz reif.\n\n\n
SUMMARY:Ist der Ku´damm noch hip?
END:VEVENT
END:VCALENDAR
