BEGIN:VCALENDAR
X-WR-TIMEZONE:Europe/Berlin
X-WR-CALNAME:rbb-Kalender
VERSION:2.0
METHOD:PUBLISH
CALSCALE:GREGORIAN
PRODID:rbb-CMS DAY
BEGIN:VEVENT
CLASS:PUBLIC
URL:http://www.rbb-online.de/content/rbb/rbb/zibb/archiv/20131028_1830/losvanvan.html
DTEND:20131028T192500
DTSTART:20131028T183000
UID:/content/rbb/rbb/zibb/archiv/20131028_1830/losvanvan
DTSTAMP:20140407T174120
DESCRIPTION:Sie sind die unbestrittenen Könige der kubanischen Salsa und haben nach inzwischen 45 Bühnenjahren gerade einen Preis für ihr Lebenswerk gewonnen. Die 17 Musiker spielen schnelle tanzbare Rhythmen, drei Generationen Kubaner kennen ihre Texte auswendig.\n\n\n\n\n
SUMMARY:Kuba in Berlin: Los Van Van
END:VEVENT
END:VCALENDAR
