BEGIN:VCALENDAR
X-WR-TIMEZONE:Europe/Berlin
X-WR-CALNAME:rbb-Kalender
VERSION:2.0
METHOD:PUBLISH
CALSCALE:GREGORIAN
PRODID:rbb-CMS DAY
BEGIN:VEVENT
CLASS:PUBLIC
URL:http://www.rbb-online.de/content/rbb/rbb/zibb/archiv/20131028_1830/model.html
DTEND:20131028T192500
DTSTART:20131028T183000
UID:/content/rbb/rbb/zibb/archiv/20131028_1830/model
DTSTAMP:20140407T174108
DESCRIPTION:Man kennt diese Geschichten: Ein Mädel läuft nichtsahnend die Straße entlang, wird von einem Agenten, Fotografen oder Designer angesprochen - und schon beginnt eine Weltkarriere.\n\n\n\n\n
SUMMARY:So wird aus einem Mädel ein Model
END:VEVENT
END:VCALENDAR
