BEGIN:VCALENDAR
X-WR-TIMEZONE:Europe/Berlin
X-WR-CALNAME:rbb-Kalender
VERSION:2.0
METHOD:PUBLISH
CALSCALE:GREGORIAN
PRODID:rbb-CMS DAY
BEGIN:VEVENT
CLASS:PUBLIC
URL:http://www.rbb-online.de/content/rbb/rbb/zibb/archiv/20131028_1830/paulis.html
DTEND:20131028T192500
DTSTART:20131028T183000
UID:/content/rbb/rbb/zibb/archiv/20131028_1830/paulis
DTSTAMP:20140407T174036
DESCRIPTION:Die Äpfel sind runter, nur der rote Boskoop hängt noch, ein schöner Lagerapfel für den Winter. Die Paulis haben rund 42 Apfel-Sorten auf ihren Streuobstwiesen und für jeden eine Verwendung.\n
SUMMARY:Mit den Paulis durchs Jahr
END:VEVENT
END:VCALENDAR
