BEGIN:VCALENDAR
X-WR-TIMEZONE:Europe/Berlin
X-WR-CALNAME:rbb-Kalender
VERSION:2.0
METHOD:PUBLISH
CALSCALE:GREGORIAN
PRODID:rbb-CMS DAY
BEGIN:VEVENT
CLASS:PUBLIC
URL:http://www.rbb-online.de/content/rbb/rbb/zibb/archiv/20131028_1830/petze.html
DTEND:20131028T192500
DTSTART:20131028T183000
UID:/content/rbb/rbb/zibb/archiv/20131028_1830/petze
DTSTAMP:20140407T174052
DESCRIPTION:Da fährt jemand immer wieder langsam durch Ihre Wohngegend und guckt irgendwie verdächtig - würden Sie die Polizei rufen? Die meisten von uns wohl sicher nicht, denn langsam durch die Gegend fahren ist ja nicht verboten. Und wer will sich schon mit einem sinnlosen Anruf bei der Polizei lächerlich machen?\n\n\n
SUMMARY:Aufruf zu mehr Nachbarschaftshilfe
END:VEVENT
END:VCALENDAR
