BEGIN:VCALENDAR
X-WR-TIMEZONE:Europe/Berlin
X-WR-CALNAME:rbb-Kalender
VERSION:2.0
METHOD:PUBLISH
CALSCALE:GREGORIAN
PRODID:rbb-CMS DAY
BEGIN:VEVENT
CLASS:PUBLIC
URL:http://www.rbb-online.de/content/rbb/rbb/zibb/archiv/20131028_1830/zurueck.html
DTEND:20131028T192500
DTSTART:20131028T183000
UID:/content/rbb/rbb/zibb/archiv/20131028_1830/zurueck
DTSTAMP:20140407T174023
DESCRIPTION:Am 28.10.1993, also vor 20 Jahren, gab es eine gesetzliche Neuregelung im Namensrecht. Es sollte nicht mehr automatisch der Name des Mannes als Familienname benutzt werden. Mit einem neuen Gesetz wird beschlossen, dass auch Frauennamen als Familiennamen gelten.\n
SUMMARY:zibb zurück: Männer mit Mädchennamen
END:VEVENT
END:VCALENDAR
