BEGIN:VCALENDAR
X-WR-TIMEZONE:Europe/Berlin
X-WR-CALNAME:rbb-Kalender
VERSION:2.0
METHOD:PUBLISH
CALSCALE:GREGORIAN
PRODID:rbb-CMS DAY
BEGIN:VEVENT
CLASS:PUBLIC
URL:http://www.rbb-online.de/content/rbb/rbb/zibb/archiv/20131029_1830/90jahreradio.html
DTEND:20131029T192500
DTSTART:20131029T183000
UID:/content/rbb/rbb/zibb/archiv/20131029_1830/90jahreradio
DTSTAMP:20140407T143202
DESCRIPTION:Heute auf den Tag genau vor 90 Jahren, am 29. Oktober 1923 ging in Berlin das erste Radioprogramm auf Sendung – mit einem einstündigen Eröffnungskonzert, das live übertragen wurde. Zibb ehrt das Medium Radio zum runden Geburtstag mit einer ganz speziellen Hommage.\n\n\n
SUMMARY:90 Jahre Radio
END:VEVENT
END:VCALENDAR
