BEGIN:VCALENDAR
X-WR-TIMEZONE:Europe/Berlin
X-WR-CALNAME:rbb-Kalender
VERSION:2.0
METHOD:PUBLISH
CALSCALE:GREGORIAN
PRODID:rbb-CMS DAY
BEGIN:VEVENT
CLASS:PUBLIC
URL:http://www.rbb-online.de/content/rbb/rbb/zibb/archiv/20131029_1830/alpakas.html
DTEND:20131029T192500
DTSTART:20131029T183000
UID:/content/rbb/rbb/zibb/archiv/20131029_1830/alpakas
DTSTAMP:20140407T143136
DESCRIPTION:Alpakas sehen aus, wie nicht von dieser Welt. Deshalb sind auch so viele Menschen begeistert von ihnen, gerade die, die ebenfalls schon ein bisschen der Welt entrückt sind. In einem Spandauer Pflegeheim kommen jetzt regelmäßig Alpakas zur therapeutischen Arbeit - per Fahrstuhl!\n\n\n
SUMMARY:Heilung durch Alpakas
END:VEVENT
END:VCALENDAR
