BEGIN:VCALENDAR
X-WR-TIMEZONE:Europe/Berlin
X-WR-CALNAME:rbb-Kalender
VERSION:2.0
METHOD:PUBLISH
CALSCALE:GREGORIAN
PRODID:rbb-CMS DAY
BEGIN:VEVENT
CLASS:PUBLIC
URL:http://www.rbb-online.de/content/rbb/rbb/zibb/archiv/20131029_1830/unidram.html
DTEND:20131029T192500
DTSTART:20131029T183000
UID:/content/rbb/rbb/zibb/archiv/20131029_1830/unidram
DTSTAMP:20140407T143107
DESCRIPTION:Das Internationale Theaterfestival Unidram bietet junges, experimentierfreudiges Theater, das nach neuen Wegen sucht, Grenzen überschreitet und unterschiedliche Theatertraditionen zusammenführt. Zum 20. Mal findet es nun in Potsdam statt - mit über 100 Künstlern aus Mittel- und Osteuropa.\n\n\n
SUMMARY:20. Unidram Theaterfestival
END:VEVENT
END:VCALENDAR
