BEGIN:VCALENDAR
X-WR-TIMEZONE:Europe/Berlin
X-WR-CALNAME:rbb-Kalender
VERSION:2.0
METHOD:PUBLISH
CALSCALE:GREGORIAN
PRODID:rbb-CMS DAY
BEGIN:VEVENT
CLASS:PUBLIC
URL:http://www.rbb-online.de/content/rbb/rbb/zibb/archiv/20131029_1830/zugunglueck.html
DTEND:20131029T192500
DTSTART:20131029T183000
UID:/content/rbb/rbb/zibb/archiv/20131029_1830/zugunglueck
DTSTAMP:20140407T143143
DESCRIPTION:Zugunfall bei Beelitz. Es passierte am Montagnachmittag. Eine 54-jährige Frau aus Werder war mit ihrem Enkel und einem Beifahrer im Auto unterwegs. Im Beelitzer Gewerbegebiet stieß die Fahrerin mit einem Zug der ODEG zusammen, obwohl der Zugführer vor dem unbeschrankten Bahnübergang lautstark auf sich aufmerksam machte.\n\n\n\n\n
SUMMARY:Nach dem tödlichen Zugunglück
END:VEVENT
END:VCALENDAR
