BEGIN:VCALENDAR
X-WR-TIMEZONE:Europe/Berlin
X-WR-CALNAME:rbb-Kalender
VERSION:2.0
METHOD:PUBLISH
CALSCALE:GREGORIAN
PRODID:rbb-CMS DAY
BEGIN:VEVENT
CLASS:PUBLIC
URL:http://www.rbb-online.de/content/rbb/rbb/zibb/archiv/20131030_1830/brandenburg-und-der-reformationstag.html
DTEND:20131030T192500
DTSTART:20131030T183000
UID:/content/rbb/rbb/zibb/archiv/20131030_1830/brandenburg-und-der-reformationstag
DTSTAMP:20140407T174901
DESCRIPTION:Donnerstag ist ein besonderer Tag für unsere Region. In Brandenburg ist der Reformationstag ein Feiertag, in Berlin dagegen nicht. Doch warum ist das so? Was feiern die Brandenburger, und warum tun es die Berliner nicht? zibb hat die Antworten.\n
SUMMARY:Brandenburg und der Reformationstag
END:VEVENT
END:VCALENDAR
