BEGIN:VCALENDAR
X-WR-TIMEZONE:Europe/Berlin
X-WR-CALNAME:rbb-Kalender
VERSION:2.0
METHOD:PUBLISH
CALSCALE:GREGORIAN
PRODID:rbb-CMS DAY
BEGIN:VEVENT
CLASS:PUBLIC
URL:http://www.rbb-online.de/content/rbb/rbb/zibb/archiv/20131030_1830/der-neue-zoo-chef-andreas-knieriem.html
DTEND:20131030T192500
DTSTART:20131030T183000
UID:/content/rbb/rbb/zibb/archiv/20131030_1830/der-neue-zoo-chef-andreas-knieriem
DTSTAMP:20140407T174848
DESCRIPTION:Andreas Knieriem übernimmt im kommenden Jahr die Leitung von Zoo und Tierpark in Berlin. Zuvor hatte er im Duisburger Zoo als Tierarzt gearbeitet, danach war er Tierparkdirektor in Hannover und jetzt in München. Um den Posten in Berlin hat er sich nicht beworben, er wurde gefragt.\n\n\n
SUMMARY:Der neue Zoo-Chef Andreas Knieriem
END:VEVENT
END:VCALENDAR
