BEGIN:VCALENDAR
X-WR-TIMEZONE:Europe/Berlin
X-WR-CALNAME:rbb-Kalender
VERSION:2.0
METHOD:PUBLISH
CALSCALE:GREGORIAN
PRODID:rbb-CMS DAY
BEGIN:VEVENT
CLASS:PUBLIC
URL:http://www.rbb-online.de/content/rbb/rbb/zibb/archiv/20131030_1830/kochen-im-olympiastadion.html
DTEND:20131030T192500
DTSTART:20131030T183000
UID:/content/rbb/rbb/zibb/archiv/20131030_1830/kochen-im-olympiastadion
DTSTAMP:20140407T174939
DESCRIPTION:Im Berliner Olympiastadion wird neuerdings auch gekocht - und damit ist nicht die Bratwurst gemeint, die es bei Hertha-Spielen am Wochenende am Imbisstand gibt. Hier finden Kochkurse auf höchstem Niveau statt, versprechen die Veranstalter des Cooking-Club. zibb hat die Probe aufs Exempel gemacht.\n\n\n
SUMMARY:Kochen im Olympiastadion
END:VEVENT
END:VCALENDAR
