BEGIN:VCALENDAR
X-WR-TIMEZONE:Europe/Berlin
X-WR-CALNAME:rbb-Kalender
VERSION:2.0
METHOD:PUBLISH
CALSCALE:GREGORIAN
PRODID:rbb-CMS DAY
BEGIN:VEVENT
CLASS:PUBLIC
URL:http://www.rbb-online.de/content/rbb/rbb/zibb/archiv/20131030_1830/zibb-tipps-spezial-halloween.html
DTEND:20131030T192500
DTSTART:20131030T183000
UID:/content/rbb/rbb/zibb/archiv/20131030_1830/zibb-tipps-spezial-halloween
DTSTAMP:20140407T174921
DESCRIPTION:+++ Halloween im Tierpark +++ Halloween-Blutspende +++ Grusellabor im Extavium Potsdam +++\n\n\n
SUMMARY:zibb-Tipps spezial: Halloween
END:VEVENT
END:VCALENDAR
