BEGIN:VCALENDAR
X-WR-TIMEZONE:Europe/Berlin
X-WR-CALNAME:rbb-Kalender
VERSION:2.0
METHOD:PUBLISH
CALSCALE:GREGORIAN
PRODID:rbb-CMS DAY
BEGIN:VEVENT
CLASS:PUBLIC
URL:http://www.rbb-online.de/content/rbb/rbb/zibb/archiv/20131031_1830/ber-image.html
DTEND:20131031T192500
DTSTART:20131031T183000
UID:/content/rbb/rbb/zibb/archiv/20131031_1830/ber-image
DTSTAMP:20140407T175507
DESCRIPTION:Die Kosten, der Termin, das Personal - wenn es um den Berliner Flughafenbau geht, dann weiß man ja gar nicht, worüber man sich zuerst aufregen soll. \n\n\n
SUMMARY:Schadet der BER unserem Image?
END:VEVENT
END:VCALENDAR
