BEGIN:VCALENDAR
X-WR-TIMEZONE:Europe/Berlin
X-WR-CALNAME:rbb-Kalender
VERSION:2.0
METHOD:PUBLISH
CALSCALE:GREGORIAN
PRODID:rbb-CMS DAY
BEGIN:VEVENT
CLASS:PUBLIC
URL:http://www.rbb-online.de/content/rbb/rbb/zibb/archiv/20131031_1830/gebaerdendolmetscherin-rock-konzert.html
DTEND:20131031T192500
DTSTART:20131031T183000
UID:/content/rbb/rbb/zibb/archiv/20131031_1830/gebaerdendolmetscherin-rock-konzert
DTSTAMP:20140407T175555
DESCRIPTION:Die Gebärdendolmetscherin hat schon mit vielen deutschsprachigen Bands gearbeitet von Keimzeit bis Marius-Müller Westernhagen.\n
SUMMARY:Gebärdendolmetscherin übersetzt Rock-Konzerte
END:VEVENT
END:VCALENDAR
