BEGIN:VCALENDAR
X-WR-TIMEZONE:Europe/Berlin
X-WR-CALNAME:rbb-Kalender
VERSION:2.0
METHOD:PUBLISH
CALSCALE:GREGORIAN
PRODID:rbb-CMS DAY
BEGIN:VEVENT
CLASS:PUBLIC
URL:http://www.rbb-online.de/content/rbb/rbb/zibb/archiv/20131101_1830/4.html
DTEND:20131101T192500
DTSTART:20131101T183000
UID:/content/rbb/rbb/zibb/archiv/20131101_1830/4
DTSTAMP:20140407T175227
DESCRIPTION:Täglich fährt Busfahrer Frank Patzschke in Berlin-Hellersdorf Kinder von der Schule zum Schwimmunterricht. Damit sie dort sicher ankommen, parkt er im Halteverbot. Als Dank gibt es Knöllchen vom Ordnungsamt. Der 69-jährige Patzschke kontert, er halte da, wo es für die Kinder am sichersten sei. zibb sprach mit ihm und dem zuständigen Ordnungsamt.\n\n\n
SUMMARY:Knöllchen für umsichtigen Busfahrer
END:VEVENT
END:VCALENDAR
