BEGIN:VCALENDAR
X-WR-TIMEZONE:Europe/Berlin
X-WR-CALNAME:rbb-Kalender
VERSION:2.0
METHOD:PUBLISH
CALSCALE:GREGORIAN
PRODID:rbb-CMS DAY
BEGIN:VEVENT
CLASS:PUBLIC
URL:http://www.rbb-online.de/content/rbb/rbb/zibb/archiv/20131101_1830/7.html
DTEND:20131101T192500
DTSTART:20131101T183000
UID:/content/rbb/rbb/zibb/archiv/20131101_1830/7
DTSTAMP:20140407T175334
DESCRIPTION:Eine Woche lang haben uns Berliner und Brandenburger gesagt, warum und was sie an der scheinbar unendlichen Baustelle Flughafen BER aufregt oder ärgert. Heute wollen wir in die Zukunft gucken.\n\n\n
SUMMARY:Zukunft BER: Wie kann es weitergehen?
END:VEVENT
END:VCALENDAR
