BEGIN:VCALENDAR
X-WR-TIMEZONE:Europe/Berlin
X-WR-CALNAME:rbb-Kalender
VERSION:2.0
METHOD:PUBLISH
CALSCALE:GREGORIAN
PRODID:rbb-CMS DAY
BEGIN:VEVENT
CLASS:PUBLIC
URL:http://www.rbb-online.de/content/rbb/rbb/zibb/archiv/20131101_1830/8.html
DTEND:20131101T192500
DTSTART:20131101T183000
UID:/content/rbb/rbb/zibb/archiv/20131101_1830/8
DTSTAMP:20140407T175244
DESCRIPTION:Die Redaktion von "Tier zuliebe" hat sich auf die Suche nach ganz besonders engen Partnerschaften zwischen Mensch und Hund gemacht. Das Ergebnis können Sie am Sonntag um 18 Uhr im rbb sehen. Hier schon mal ein Einblick, wie unterschiedlich die Arbeitseinstellungen auch bei Hunden sein können.\n\n\n
SUMMARY:"Ein tierischer Job - Wenn Tiere arbeiten ..." 
END:VEVENT
END:VCALENDAR
