BEGIN:VCALENDAR
X-WR-TIMEZONE:Europe/Berlin
X-WR-CALNAME:rbb-Kalender
VERSION:2.0
METHOD:PUBLISH
CALSCALE:GREGORIAN
PRODID:rbb-CMS DAY
BEGIN:VEVENT
CLASS:PUBLIC
URL:http://www.rbb-online.de/content/rbb/rbb/zibb/archiv/20131101_1830/9.html
DTEND:20131101T192500
DTSTART:20131101T183000
UID:/content/rbb/rbb/zibb/archiv/20131101_1830/9
DTSTAMP:20140407T175302
DESCRIPTION:Es wird dunkel, da kommen sie wieder aus ihren Löchern – die Gestalten in den gruseligen Verkleidungen. Ob als Lady Gaga mit Schnurrbart, als Geheimagent verkleidet bei der NSA-Demo, oder im Bärenkostüm, um für den Volksentscheid zu werben. Unser Wochenrückblick mit Frank Schlegel.\n\n\n\n\n
SUMMARY:Dit war dit
END:VEVENT
END:VCALENDAR
