BEGIN:VCALENDAR
X-WR-TIMEZONE:Europe/Berlin
X-WR-CALNAME:rbb-Kalender
VERSION:2.0
METHOD:PUBLISH
CALSCALE:GREGORIAN
PRODID:rbb-CMS DAY
BEGIN:VEVENT
CLASS:PUBLIC
URL:http://www.rbb-online.de/content/rbb/rbb/zibb/archiv/20131104_1830/ausgesetzter-hunde-welpe.html
DTEND:20131104T192500
DTSTART:20131104T183000
UID:/content/rbb/rbb/zibb/archiv/20131104_1830/ausgesetzter-hunde-welpe
DTSTAMP:20140406T213550
DESCRIPTION:Der acht Wochen alte Welpe Barney wurde ausgesetzt und hatte Glück, dass er von einem Paar noch gerade rechtzeitig gefunden wurde.\n\n\n
SUMMARY:Ausgesetzter Hundewelpe
END:VEVENT
END:VCALENDAR
