BEGIN:VCALENDAR
X-WR-TIMEZONE:Europe/Berlin
X-WR-CALNAME:rbb-Kalender
VERSION:2.0
METHOD:PUBLISH
CALSCALE:GREGORIAN
PRODID:rbb-CMS DAY
BEGIN:VEVENT
CLASS:PUBLIC
URL:http://www.rbb-online.de/content/rbb/rbb/zibb/archiv/20131104_1830/guse-fragt-nach.html
DTEND:20131104T192500
DTSTART:20131104T183000
UID:/content/rbb/rbb/zibb/archiv/20131104_1830/guse-fragt-nach
DTSTAMP:20140406T213625
DESCRIPTION:Kommen die braunen Eier von braunen Hühnern und die weißen Eier von weißen Hühnern?\n\n\n
SUMMARY:Guse fragt nach...
END:VEVENT
END:VCALENDAR
