BEGIN:VCALENDAR
X-WR-TIMEZONE:Europe/Berlin
X-WR-CALNAME:rbb-Kalender
VERSION:2.0
METHOD:PUBLISH
CALSCALE:GREGORIAN
PRODID:rbb-CMS DAY
BEGIN:VEVENT
CLASS:PUBLIC
URL:http://www.rbb-online.de/content/rbb/rbb/zibb/archiv/20131105_1830/die-drei-fragezeichen.html
DTEND:20131105T192500
DTSTART:20131105T183000
UID:/content/rbb/rbb/zibb/archiv/20131105_1830/die-drei-fragezeichen
DTSTAMP:20140408T020931
DESCRIPTION:Seit fast 35 Jahren begeistern "Die drei ???" die Menschen über Generationen hinweg.\n\n\n
SUMMARY:Die drei ???
END:VEVENT
END:VCALENDAR
