BEGIN:VCALENDAR
X-WR-TIMEZONE:Europe/Berlin
X-WR-CALNAME:rbb-Kalender
VERSION:2.0
METHOD:PUBLISH
CALSCALE:GREGORIAN
PRODID:rbb-CMS DAY
BEGIN:VEVENT
CLASS:PUBLIC
URL:http://www.rbb-online.de/content/rbb/rbb/zibb/archiv/20131105_1830/mann-mit-eule.html
DTEND:20131105T192500
DTSTART:20131105T183000
UID:/content/rbb/rbb/zibb/archiv/20131105_1830/mann-mit-eule
DTSTAMP:20140408T021017
DESCRIPTION:Die meisten Menschen kennen Eulen als Applikation auf Kissen, auf Bildern, auf Taschen und auf Bettwäsche. \n\n\n\n\n
SUMMARY:Mann mit Eule
END:VEVENT
END:VCALENDAR
