BEGIN:VCALENDAR
X-WR-TIMEZONE:Europe/Berlin
X-WR-CALNAME:rbb-Kalender
VERSION:2.0
METHOD:PUBLISH
CALSCALE:GREGORIAN
PRODID:rbb-CMS DAY
BEGIN:VEVENT
CLASS:PUBLIC
URL:http://www.rbb-online.de/content/rbb/rbb/zibb/archiv/20131106_1830/kinderoper.html
DTEND:20131106T192500
DTSTART:20131106T183000
UID:/content/rbb/rbb/zibb/archiv/20131106_1830/kinderoper
DTSTAMP:20140407T005050
DESCRIPTION:Vor vier Jahren erst wurde die Lichtenberger Kinderoper gegründet. Hier können Kinder aus dem Kiez die Welt der klassischen Musik für sich entdecken. Das Angebot wird erfolgreich angenommen Jetzt wurde die Kinderoper als hervorragende Bildungsidee ausgezeichnet. Zibb war bei einer Probe dabei.\n
SUMMARY:Preis für Lichtenberger Kinderoper
END:VEVENT
END:VCALENDAR
