BEGIN:VCALENDAR
X-WR-TIMEZONE:Europe/Berlin
X-WR-CALNAME:rbb-Kalender
VERSION:2.0
METHOD:PUBLISH
CALSCALE:GREGORIAN
PRODID:rbb-CMS DAY
BEGIN:VEVENT
CLASS:PUBLIC
URL:http://www.rbb-online.de/content/rbb/rbb/zibb/archiv/20131107_1830/emdener-strasse.html
DTEND:20131107T192500
DTSTART:20131107T183000
UID:/content/rbb/rbb/zibb/archiv/20131107_1830/emdener-strasse
DTSTAMP:20140406T232259
DESCRIPTION:Mit ihrem vorbildlichen nachbarschaftlichen Engagement haben die Nachbarn der Moabiter Emdener Straße den Wettbewerb "Die schönste Straße Deutschlands" gewonnen. Initiiert wurde der Wettbewerb vom Netzwerk Nachbarschaft mit Unterstützung des deutschen Städtetages.\n\n\n\n\n
SUMMARY:Emdener Straße in Moabit gewinnt Preis
END:VEVENT
END:VCALENDAR
