BEGIN:VCALENDAR
X-WR-TIMEZONE:Europe/Berlin
X-WR-CALNAME:rbb-Kalender
VERSION:2.0
METHOD:PUBLISH
CALSCALE:GREGORIAN
PRODID:rbb-CMS DAY
BEGIN:VEVENT
CLASS:PUBLIC
URL:http://www.rbb-online.de/content/rbb/rbb/zibb/archiv/20131107_1830/filmfest.html
DTEND:20131107T192500
DTSTART:20131107T183000
UID:/content/rbb/rbb/zibb/archiv/20131107_1830/filmfest
DTSTAMP:20140406T232334
DESCRIPTION:Noch bis zum Sonntag steht in Cottbus alles im Zeichen des osteuropäischen Films. Jedes Jahr lockt das Filmfestival ein internationales Publikum in die Stadt. zibb hat zwei Cottbusser getroffen, die das Festival auf ihre ganz eigene und sehr unterschiedliche Art erleben.\n\n\n
SUMMARY:Auf dem Filmfest Cottbus
END:VEVENT
END:VCALENDAR
